Workbook

Sheet 学校番号
A1: № | B1: 学校名
A2: 101 | B2: 川之江小
A3: 102 | B3: 金生第一小
A4: 103 | B4: 金生第二小
A5: 104 | B5: 上分小
A6: 105 | B6: 四国中央南小
A7: 106 | B7: 川滝小
A8: 107 | B8: 妻鳥小
A9: 108 | B9: 松柏小
A10: 109 | B10: 三島小
A11: 110 | B11: 中曽根小
A12: 111 | B12: 中之庄小
A13: 112 | B13: 寒川小
... A27: 156 | B27: 新宮中(小中一貫)
A28: 157
A29: 201 | B29: 新居浜小
A30: 202 | B30: 宮西小
A31: 203 | B31: 金子小
A32: 204 | B32: 金栄小
A33: 205 | B33: 高津小
A34: 206 | B34: 浮島小
A35: 207 | B35: 惣開小
A36: 208 | B36: 若宮小
A37: 209 | B37: 新居浜垣生小
A38: 210 | B38: 神郷小
A39: 211 | B39: 多喜浜小
A40: 212 | B40: 泉川小
... A85: 325 | B85: 中川小
A86: 326
A87: 351 | B87: 西条東中
A88: 352 | B88: 西条西中
A89: 353 | B89: 西条南中
A90: 354 | B90: 西条北中
A91: 355 | B91: 小松中
A92: 356 | B92: 東予西中
A93: 357 | B93: 河北中
A94: 358 | B94: 東予東中
A95: 359 | B95: 丹原東中
A96: 360 | B96: 丹原西中
A97: 401
A98: 402
A99: 403 | B99: 吹揚小
A100: 404 | B100: 別宮小
A101: 405 | B101: 常磐小
A102: 406 | B102: 近見小
A103: 407 | B103: 立花小
A104: 408 | B104: 桜井小
A105: 409 | B105: 富田小
A106: 410 | B106: 清水小
A107: 411 | B107: 日高小
A108: 412 | B108: 乃万小
A109: 413 | B109: 波止浜小
A110: 414 | B110: 鳥生小
... A125: 429 | B125: 今治特別支援小学部
A126: 430
A127: 431
A128: 451 | B128: 日吉中
A129: 452 | B129: 近見中
A130: 453 | B130: 立花中
A131: 454 | B131: 桜井中
A132: 455 | B132: 今治南中
A133: 456 | B133: 今治西中
A134: 457 | B134: 北郷中
A135: 458 | B135: 朝倉中
A136: 459 | B136: 玉川中
A137: 460 | B137: 大西中
A138: 461 | B138: 菊間中
A139: 462 | B139: 大島中
... A146: 469 | B146: 今治特別支援中学部
A147: 470
A148: 471
A149: 501 | B149: 魚島小
A150: 502 | B150: 弓削小
A151: 503 | B151: 生名小
A152: 504 | B152: 岩城小
A153: 505 | B153: 高井神小
A154: 551 | B154: 弓削中
A155: 552 | B155: 岩城中
A156: 553 | B156: 魚島中
A157: 554
A158: 601 | B158: 番町小
A159: 602 | B159: 味酒小
A160: 603 | B160: 八坂小
A161: 604 | B161: 東雲小
A162: 605 | B162: 新玉小
A163: 606 | B163: 清水小
A164: 607 | B164: 雄郡小
A165: 608 | B165: 素鵞小
A166: 609 | B166: 堀江小
A167: 610 | B167: 潮見小
A168: 611 | B168: 久枝小
A169: 612 | B169: 和気小
... A215: 658 | B215: 愛媛大学附属小
A216: 659
A217: 661 | B217: 拓南中
A218: 662 | B218: 雄新中
A219: 663 | B219: 勝山中
A220: 664 | B220: 東中
A221: 665 | B221: 道後中
A222: 666 | B222: 鴨川中
...

Sheet 名簿（出品者名を入れてください）
A1: えひめこども美術展用
A2: 学年 | B2: 部門 | C2: 作品番号 | D2: 学校番号 | E2: 学 校 名 | F2: 氏 名 | G2: 外字 | H2: 読み仮名 | I2: 第一展示 | J2: 新聞発表 | K2: ページ | L2: 通し番号
E3: =IF(ISERROR(VLOOKUP(D3,学校番号!$2:$486,2, FALSE)),"",VLOOKUP(D3,学校番号!$2:$486,2, FALSE)) | N3: 入力参考用に表示（それぞれの郡市の学校名を学校番号のシートからコピー＆ペーストで）
E4: =IF(ISERROR(VLOOKUP(D4,学校番号!$2:$486,2, FALSE)),"",VLOOKUP(D4,学校番号!$2:$486,2, FALSE))
E5: =IF(ISERROR(VLOOKUP(D5,学校番号!$2:$486,2, FALSE)),"",VLOOKUP(D5,学校番号!$2:$486,2, FALSE))
E6: =IF(ISERROR(VLOOKUP(D6,学校番号!$2:$486,2, FALSE)),"",VLOOKUP(D6,学校番号!$2:$486,2, FALSE)) | N6: 西条地区の例
E7: =IF(ISERROR(VLOOKUP(D7,学校番号!$2:$486,2, FALSE)),"",VLOOKUP(D7,学校番号!$2:$486,2, FALSE)) | N7: 301 | O7: 西条小
E8: =IF(ISERROR(VLOOKUP(D8,学校番号!$2:$486,2, FALSE)),"",VLOOKUP(D8,学校番号!$2:$486,2, FALSE)) | N8: 302 | O8: 神拝小
E9: =IF(ISERROR(VLOOKUP(D9,学校番号!$2:$486,2, FALSE)),"",VLOOKUP(D9,学校番号!$2:$486,2, FALSE)) | N9: 303 | O9: 大町小
E10: =IF(ISERROR(VLOOKUP(D10,学校番号!$2:$486,2, FALSE)),"",VLOOKUP(D10,学校番号!$2:$486,2, FALSE)) | N10: 304 | O10: 玉津小
E11: =IF(ISERROR(VLOOKUP(D11,学校番号!$2:$486,2, FALSE)),"",VLOOKUP(D11,学校番号!$2:$486,2, FALSE)) | N11: 305 | O11: 飯岡小
E12: =IF(ISERROR(VLOOKUP(D12,学校番号!$2:$486,2, FALSE)),"",VLOOKUP(D12,学校番号!$2:$486,2, FALSE)) | N12: 306 | O12: 神戸小
E13: =IF(ISERROR(VLOOKUP(D13,学校番号!$2:$486,2, FALSE)),"",VLOOKUP(D13,学校番号!$2:$486,2, FALSE)) | N13: 307 | O13: 橘小
E14: =IF(ISERROR(VLOOKUP(D14,学校番号!$2:$486,2, FALSE)),"",VLOOKUP(D14,学校番号!$2:$486,2, FALSE)) | N14: 308 | O14: 禎瑞小
E15: =IF(ISERROR(VLOOKUP(D15,学校番号!$2:$486,2, FALSE)),"",VLOOKUP(D15,学校番号!$2:$486,2, FALSE)) | N15: 309 | O15: 氷見小
E16: =IF(ISERROR(VLOOKUP(D16,学校番号!$2:$486,2, FALSE)),"",VLOOKUP(D16,学校番号!$2:$486,2, FALSE)) | N16: 310 | O16: 小松小
E17: =IF(ISERROR(VLOOKUP(D17,学校番号!$2:$486,2, FALSE)),"",VLOOKUP(D17,学校番号!$2:$486,2, FALSE)) | N17: 311 | O17: 石根小
E18: =IF(ISERROR(VLOOKUP(D18,学校番号!$2:$486,2, FALSE)),"",VLOOKUP(D18,学校番号!$2:$486,2, FALSE)) | N18: 312 | O18: 壬生川小
... E31: =IF(ISERROR(VLOOKUP(D31,学校番号!$2:$486,2, FALSE)),"",VLOOKUP(D31,学校番号!$2:$486,2, FALSE)) | N31: 325 | O31: 中川小
E32: =IF(ISERROR(VLOOKUP(D32,学校番号!$2:$486,2, FALSE)),"",VLOOKUP(D32,学校番号!$2:$486,2, FALSE)) | N32: 326
E33: =IF(ISERROR(VLOOKUP(D33,学校番号!$2:$486,2, FALSE)),"",VLOOKUP(D33,学校番号!$2:$486,2, FALSE)) | N33: 351 | O33: 西条東中
E34: =IF(ISERROR(VLOOKUP(D34,学校番号!$2:$486,2, FALSE)),"",VLOOKUP(D34,学校番号!$2:$486,2, FALSE)) | N34: 352 | O34: 西条西中
E35: =IF(ISERROR(VLOOKUP(D35,学校番号!$2:$486,2, FALSE)),"",VLOOKUP(D35,学校番号!$2:$486,2, FALSE)) | N35: 353 | O35: 西条南中
E36: =IF(ISERROR(VLOOKUP(D36,学校番号!$2:$486,2, FALSE)),"",VLOOKUP(D36,学校番号!$2:$486,2, FALSE)) | N36: 354 | O36: 西条北中
E37: =IF(ISERROR(VLOOKUP(D37,学校番号!$2:$486,2, FALSE)),"",VLOOKUP(D37,学校番号!$2:$486,2, FALSE)) | N37: 355 | O37: 小松中
E38: =IF(ISERROR(VLOOKUP(D38,学校番号!$2:$486,2, FALSE)),"",VLOOKUP(D38,学校番号!$2:$486,2, FALSE)) | N38: 356 | O38: 東予西中
E39: =IF(ISERROR(VLOOKUP(D39,学校番号!$2:$486,2, FALSE)),"",VLOOKUP(D39,学校番号!$2:$486,2, FALSE)) | N39: 357 | O39: 河北中
E40: =IF(ISERROR(VLOOKUP(D40,学校番号!$2:$486,2, FALSE)),"",VLOOKUP(D40,学校番号!$2:$486,2, FALSE)) | N40: 358 | O40: 東予東中
E41: =IF(ISERROR(VLOOKUP(D41,学校番号!$2:$486,2, FALSE)),"",VLOOKUP(D41,学校番号!$2:$486,2, FALSE)) | N41: 359 | O41: 丹原東中
E42: =IF(ISERROR(VLOOKUP(D42,学校番号!$2:$486,2, FALSE)),"",VLOOKUP(D42,学校番号!$2:$486,2, FALSE)) | N42: 360 | O42: 丹原西中
E43: =IF(ISERROR(VLOOKUP(D43,学校番号!$2:$486,2, FALSE)),"",VLOOKUP(D43,学校番号!$2:$486,2, FALSE))
E44: =IF(ISERROR(VLOOKUP(D44,学校番号!$2:$486,2, FALSE)),"",VLOOKUP(D44,学校番号!$2:$486,2, FALSE))
E45: =IF(ISERROR(VLOOKUP(D45,学校番号!$2:$486,2, FALSE)),"",VLOOKUP(D45,学校番号!$2:$486,2, FALSE))
E46: =IF(ISERROR(VLOOKUP(D46,学校番号!$2:$486,2, FALSE)),"",VLOOKUP(D46,学校番号!$2:$486,2, FALSE))
E47: =IF(ISERROR(VLOOKUP(D47,学校番号!$2:$486,2, FALSE)),"",VLOOKUP(D47,学校番号!$2:$486,2, FALSE))
E48: =IF(ISERROR(VLOOKUP(D48,学校番号!$2:$486,2, FALSE)),"",VLOOKUP(D48,学校番号!$2:$486,2, FALSE))
E49: =IF(ISERROR(VLOOKUP(D49,学校番号!$2:$486,2, FALSE)),"",VLOOKUP(D49,学校番号!$2:$486,2, FALSE))
E50: =IF(ISERROR(VLOOKUP(D50,学校番号!$2:$486,2, FALSE)),"",VLOOKUP(D50,学校番号!$2:$486,2, FALSE))
E51: =IF(ISERROR(VLOOKUP(D51,学校番号!$2:$486,2, FALSE)),"",VLOOKUP(D51,学校番号!$2:$486,2, FALSE))
E52: =IF(ISERROR(VLOOKUP(D52,学校番号!$2:$486,2, FALSE)),"",VLOOKUP(D52,学校番号!$2:$486,2, FALSE))
E53: =IF(ISERROR(VLOOKUP(D53,学校番号!$2:$486,2, FALSE)),"",VLOOKUP(D53,学校番号!$2:$486,2, FALSE))
E54: =IF(ISERROR(VLOOKUP(D54,学校番号!$2:$486,2, FALSE)),"",VLOOKUP(D54,学校番号!$2:$486,2, FALSE))
... E119: =IF(ISERROR(VLOOKUP(D119,学校番号!$2:$486,2, FALSE)),"",VLOOKUP(D119,学校番号!$2:$486,2, FALSE))

Sheet 名簿（説明）
A1: えひめこども美術展 書写部門出品者名簿（地区名を入れてください） | N1: № | O1: 学校名
A2: 学年 | B2: 部門 | C2: 作品番号 | D2: 学校番号 | E2: 学 校 名 | F2: 氏 名 | G2: 外字 | H2: 読み仮名 | I2: 第一展示 | J2: 新聞発表 | K2: ページ | L2: 通し番号 | N2: 101 | O2: 川之江小
N3: 102 | O3: 金生第一小
N4: 103 | O4: 金生第二小
N5: 104 | O5: 上分小
H6: 表示→ヘッダーとフッター→ヘッダーの編集 | N6: 105 | O6: 南小
N7: 106 | O7: 川滝小
N8: 107 | O8: 妻鳥小
N9: 108 | O9: 松柏小
N10: 109 | O10: 三島小
F11: 学校番号を入力すると学校名が打ち出されます。統廃合の学校があるため過去のファイルを使わないでください。 | N11: 110 | O11: 中曽根小
N12: 111 | O12: 中之庄小
N13: 112 | O13: 寒川小
N14: 113 | O14: 豊岡小
N15: 114 | O15: 寺内小
N16: 115 | O16: 新宮小
N17: 116 | O17: 長津小
N18: 117 | O18: 小富士小
N19: 118 | O19: 北小
N20: 119 | O20: 土居小
N21: 120 | O21: 関川小
N22: 151 | O22: 川之江北中
N23: 152 | O23: 川之江南中
... N29: 201 | O29: 新居浜小
F30: シートを確認してください。右クリックの名前の変更で地区名を入れてください。 | N30: 202 | O30: 宮西小
N31: 203 | O31: 金子小
N32: 204 | O32: 金栄小
N33: 205 | O33: 高津小
N34: 206 | O34: 浮島小
N35: 207 | O35: 惣開小
A36: 学校番号 | C36: 特選候補者名簿（地区名） | F36: 名簿(説明) | N36: 208 | O36: 若宮小
N37: 209 | O37: 垣生小
C38: ※作品番号は中央審査で事務局が記入します。何も入れないでください。 | H38: ※念のため、作品と一緒に、印刷した名簿もお送りくだいさい。 | N38: 210 | O38: 神郷小
N39: 211 | O39: 多喜浜小
N40: 212
A41: 学校・部門はドロップダウンから選択してください | N41: 213 | O41: 泉川小
N42: 214 | O42: 船木小
N43: 215 | O43: 中萩小
N44: 216 | O44: 大生院小
N45: 217 | O45: 角野小
N46: 218 | O46: 別子小
N47: 218 | O47: 別子中

Sheet Sheet1
